BEGIN:VCALENDAR
VERSION:2.0
PRODID:-//CrossLife - ECPv5.0.2//NONSGML v1.0//EN
CALSCALE:GREGORIAN
METHOD:PUBLISH
X-WR-CALNAME:CrossLife
X-ORIGINAL-URL:http://www.crosslife.org.au
X-WR-CALDESC:Events for CrossLife
BEGIN:VTIMEZONE
TZID:Europe/Paris
BEGIN:DAYLIGHT
TZOFFSETFROM:+0100
TZOFFSETTO:+0200
TZNAME:CEST
DTSTART:20200329T010000
END:DAYLIGHT
BEGIN:STANDARD
TZOFFSETFROM:+0200
TZOFFSETTO:+0100
TZNAME:CET
DTSTART:20201025T010000
END:STANDARD
END:VTIMEZONE
BEGIN:VEVENT
DTSTART;TZID=Europe/Paris:20200211T190000
DTEND;TZID=Europe/Paris:20200211T210000
DTSTAMP:20200301T225613
CREATED:20200207T032350Z
LAST-MODIFIED:20200207T032350Z
UID:11920-1581447600-1581454800@www.crosslife.org.au
SUMMARY:CrossLife 2019 AGM
DESCRIPTION:Join us at our AGM with Coffee & Dessert \nAt Helensvale campus on 11 March at 7pm \nBring a plate of something delicious to share for dessert \nOn the agenda is:  The appointing of our Elders for the next 2 year period\,  The Helensvale campus pastor\, and our 2020 Ministry Finance Plan. \nYour presence is invaluable… \n  \n
URL:http://www.crosslife.org.au/event/crosslife-2019-agm/
LOCATION:CrossLife Helensvale\, 23 Discovery Drive\, Gold Coast\, Queensland\, 4211\, Australia
CATEGORIES:Seniors,Women,worship,youth
ATTACH;FMTTYPE=image/jpeg:http://www.crosslife.org.au/wp-content/uploads/2020/01/coffee-dessert-1.jpg
END:VEVENT
END:VCALENDAR