BEGIN:VCALENDAR
VERSION:2.0
PRODID:-//CrossLife - ECPv5.0.2//NONSGML v1.0//EN
CALSCALE:GREGORIAN
METHOD:PUBLISH
X-WR-CALNAME:CrossLife
X-ORIGINAL-URL:http://www.crosslife.org.au
X-WR-CALDESC:Events for CrossLife
BEGIN:VTIMEZONE
TZID:Europe/Paris
BEGIN:DAYLIGHT
TZOFFSETFROM:+0100
TZOFFSETTO:+0200
TZNAME:CEST
DTSTART:20200329T010000
END:DAYLIGHT
BEGIN:STANDARD
TZOFFSETFROM:+0200
TZOFFSETTO:+0100
TZNAME:CET
DTSTART:20201025T010000
END:STANDARD
END:VTIMEZONE
BEGIN:VEVENT
DTSTART;TZID=Europe/Paris:20200228T100000
DTEND;TZID=Europe/Paris:20200228T140000
DTSTAMP:20200301T225837
CREATED:20200203T041655Z
LAST-MODIFIED:20200203T041655Z
UID:11870-1582884000-1582898400@www.crosslife.org.au
SUMMARY:Philippians & Friends                         Crosslife Helensvale Seniors
DESCRIPTION:CrossLife Helensvale Seniors Events for 2020 \nJoin us for fun times and fellowship \nFriday 28 February. Meet at Helensvale Church 10am.\nWe’re going to Hinze Dam for Morning tea and the the Nerang RSL for Lunch \n NOTE: you will need to bring your ID \n  \n \nMarch 27 Sausage Sizzle Lunch \nApril 24 Day trip to Kingscliffe\, Pottsville and Brunswick Heads \nMay 22 Southbank by train. \nJune 26 Fish & Chips or picnic at Paradise Point \n  \n
URL:http://www.crosslife.org.au/event/philippians-friends-crosslife-helensvale-seniors/
LOCATION:CrossLife Helensvale\, 23 Discovery Drive\, Gold Coast\, Queensland\, 4211\, Australia
CATEGORIES:ministry,Seniors,Women
ATTACH;FMTTYPE=image/jpeg:http://www.crosslife.org.au/wp-content/uploads/2020/02/Philippians-v3.jpg
END:VEVENT
END:VCALENDAR