BEGIN:VCALENDAR
VERSION:2.0
PRODID:-//CrossLife - ECPv5.0.2//NONSGML v1.0//EN
CALSCALE:GREGORIAN
METHOD:PUBLISH
X-WR-CALNAME:CrossLife
X-ORIGINAL-URL:http://www.crosslife.org.au
X-WR-CALDESC:Events for CrossLife
BEGIN:VTIMEZONE
TZID:Europe/Paris
BEGIN:DAYLIGHT
TZOFFSETFROM:+0100
TZOFFSETTO:+0200
TZNAME:CEST
DTSTART:20200329T010000
END:DAYLIGHT
BEGIN:STANDARD
TZOFFSETFROM:+0200
TZOFFSETTO:+0100
TZNAME:CET
DTSTART:20201025T010000
END:STANDARD
END:VTIMEZONE
BEGIN:VEVENT
DTSTART;TZID=Europe/Paris:20200229T090000
DTEND;TZID=Europe/Paris:20200229T123000
DTSTAMP:20200301T230004
CREATED:20200203T031742Z
LAST-MODIFIED:20200213T075512Z
UID:11849-1582966800-1582979400@www.crosslife.org.au
SUMMARY:CrossLife Women Present 'HOLDING ON'
DESCRIPTION: \nOur first CrossLife Women’s event is being held on Sat Feb 29th and we’d love to see you there.\nPlease register for this event by clicking HERE. More info regarding lunch option will be available at your campus this weekend. Look out for one of our team members. \nJoin us on Saturday 29th February at Lakeside Community Centre\, \n25 Rose Valley Dr\, Upper Coomera. \nFrom 9am to 12.30pm (with optional lunch) \nOur Guest Speaker is Gayle Kent from Morling College\, Sydney \nCost: $5.00 (Lunch extra) \nHere is a short bio about our guest speaker Gayle Kent.\nSome of you might be wondering who our speaker is for our upcoming event “Holding On”. Here is a little bio about Gayle\n“In addition to being Robyn’s favourite (and only) sister\, Gayle is the Chief Community Life Officer and lecturer in Pastoral and Practical Studies at Morling College in Sydney. She has also served on the pastoral team of her church and was a secondary school teacher in English Literature and History. She is a keen traveller\, avid reader\, hopeless MarioKart player\, eclectic music listener\, and loud laugher. She considers it a privilege to be a fellow walker on this journey of faith with a community of real people; flawed but being transformed by God’s grace.” \n
URL:http://www.crosslife.org.au/event/holding-on/
LOCATION:Lakeside Community Centre\, 25 Rose Valley Drive\, Upper Coomera\, Queensland\, 4209\, Australia
CATEGORIES:ministry,Seniors,Women,youth
END:VEVENT
END:VCALENDAR